Workbook

Sheet T Accounts
A1: T ACCOUNTS
A2: CASH | F2: ACCOUNTS RECEIVABLE | I2: UNEARNED REVENUE | L2: VEHICLE
A3: Debit | B3: Credit | F3: Debit | G3: Credit | I3: Debit | J3: Credit | L3: Debit | M3: Credit
A4: 21500 | B4: 3600 | F4: 3000 | G4: 400 | J4: 7500 | L4: 40000
A5: 7500 | B5: 1000
B6: 800
B7: 6400
B8: 10000
B9: 10000
B10: 5000 | L10: NOTES PAYABLE
A11: =SUM(A4:A10) -> 29000 | B11: =SUM(B4:B10) -> 36800 | F11: =SUM(F4:F10) -> 3000 | G11: =SUM(G4:G10) -> 400 | L11: Debit | M11: Credit
B12: =B11-A11 -> 7800 | F12: =F11-G11 -> 2600 | M12: 30000
A14: ACCOUNTS PAYABLE | F14: SALARY | I14: SERVICE REVENUE
A15: Debit | B15: Credit | F15: Debit | G15: Credit | I15: Debit | J15: Credit
B16: 800 | F16: 3600 | J16: 21500
B17: 55 | F17: 400 | J17: 3000 | L17: DEPRECIATION EXPENSE
B18: 5 | F18: 5000 | I18: =SUM(I16:I17) -> 0 | J18: =SUM(J16:J17) -> 24500 | L18: Debit | M18: Credit
A19: 6400 | L19: 600
A20: =SUM(A16:A19) -> 6400 | B20: =SUM(B16:B19) -> 860 | F20: =SUM(F16:F19) -> 9000 | G20: =SUM(G16:G19) -> 0 | L20: 250
A21: =A20-B20 -> 5540 | L21: =SUM(L19:L20) -> 850 | M21: =SUM(M19:M20) -> 0
A22: RENT | F22: TELEPHONE | I22: PREPAID RENT | L22: ACCUMULAED DEPRECIATION - VEHICLE
A23: Debit | B23: Credit | F23: Debit | G23: Credit | I23: Debit | J23: Credit | L23: Debit | M23: Credit
A24: 1000 | F24: 55 | I24: 800 | M24: 600
F25: 5
A27: =SUM(A24:A26) -> 1000 | B27: =SUM(B24:B26) -> 0 | F27: =SUM(F24:F26) -> 60 | G27: =SUM(G24:G26) -> 0 | I27: =SUM(I24:I26) -> 800 | J27: =SUM(J24:J26) -> 0
L28: EQUIPMENT NEW
A29: INSURANCE EXPENSE | F29: SUPPLIES | I29: SUPPLIES EXPENSE | L29: Debit | M29: Credit
A30: Debit | B30: Credit | F30: Debit | G30: Credit | I30: Debit | J30: Credit | L30: 16000
A31: 150 | F31: 800 | I31: 4840
G32: 4840
A34: =SUM(A31:A33) -> 150 | B34: =SUM(B31:B33) -> 0 | F34: =SUM(F31:F33) -> 800 | G34: =SUM(G31:G33) -> 4840 | L34: ACC DEPRECIATION- EQIP OLD
G35: =G34-F34 -> 4040 | L35: Debit | M35: Credit
A36: PREPAID INSURANCE | F36: INTEREST EXPENSE | I36: INTEREST PAYABLE | L36: 4000
A37: Debit | B37: Credit | F37: Debit | G37: Credit | I37: Debit | J37: Credit | L37: =L36-M36 -> 4000
B38: 150 | F38: 100 | J38: 100
F40: EQUIP OLD | I40: DEPRECIATION FURNITURE | L40: ACC DEPR FURNITURE
A41: =SUM(A38:A40) -> 0 | B41: =SUM(B38:B40) -> 150 | F41: Debit | G41: Credit | I41: Debit | J41: Credit | L41: Debit | M41: Credit
G42: 10000 | I42: 83 | M42: 83
L45: ACC DEPR - EQUIPMENT
L46: Debit | M46: Credit
...

Sheet Trial Balance
A1: TRIAL BALANCE
B2: Unadjusted Trial Balance April 30 | D2: Adjustments | F2: Adjusted Trial Balance May 31
A3: Account Title | B3: Debit | C3: Credit | D3: Debit | E3: Credit | F3: Debit | G3: Credit
A4: Cash | B4: 18200 | E4: ='T Accounts'!B12 -> 7800 | F4: =B4-E4 -> 10400
A5: Accounts Receivable | B5: 6630 | D5: ='T Accounts'!F12 -> 2600 | F5: =B5+D5 -> 9230
A6: Accounts Payable | C6: 6400 | D6: ='T Accounts'!A21 -> 5540 | G6: =C6-D6 -> 860
A7: Salary | D7: ='T Accounts'!F20 -> 9000 | F7: =D7 -> 9000
A8: Rent | D8: ='T Accounts'!A27 -> 1000 | F8: =D8 -> 1000
A9: Telephone | D9: ='T Accounts'!F27 -> 60 | F9: =D9 -> 60
A10: Prepaid Rent | D10: ='T Accounts'!I27 -> 800 | F10: =D10 -> 800
A11: Insurance | D11: ='T Accounts'!A34 -> 150 | F11: =D11 -> 150
A12: Supplies | B12: 5240 | E12: ='T Accounts'!G35 -> 4040 | F12: =B12-E12 -> 1200
A13: Furniture | B13: 5000 | F13: =B13 -> 5000
A14: Accumulated Depreciation - Furniture | C14: 1000 | E14: ='T Accounts'!M42 -> 83 | G14: =C14+E14 -> 1083
A15: Accumulated Depreciation - Equipment | C15: 4000 | E15: ='T Accounts'!M47 -> 250 | G15: =C15+E15 -> 4250
A16: Unearned Service Revenue | C16: 1900 | E16: ='T Accounts'!J4 -> 7500 | G16: =E16+C16 -> 9400
A17: Capital Shares | C17: 20000 | G17: =C17 -> 20000
A18: Retained Earnings | C18: 10520 | G18: =C18 -> 10520
A19: Equipment | B19: 8000 | F19: =B19 -> 8000
A20: Prepaid Insurance | B20: 750 | E20: ='T Accounts'!B41 -> 150 | F20: =B20-E20 -> 600
A21: Interest Expense | D21: ='T Accounts'!F38 -> 100 | F21: =D21 -> 100
A22: Equipment Old | E22: ='T Accounts'!G42 -> 10000 | G22: =E22 -> 10000
A23: Service Revenue | E23: ='T Accounts'!J18 -> 24500 | G23: =E23 -> 24500
A24: Supplies expense | D24: ='T Accounts'!I31 -> 4840 | F24: =D24 -> 4840
A25: Interest Payable | E25: ='T Accounts'!J38 -> 100 | G25: =E25 -> 100
A26: Depreciation Furniture | D26: ='T Accounts'!I42 -> 83 | F26: =D26 -> 83
A27: Accumulated Depreciation - Equipment Old | D27: ='T Accounts'!L37 -> 4000 | F27: =D27 -> 4000
A28: Equipment New | D28: ='T Accounts'!L30 -> 16000 | F28: =D28 -> 16000
A29: Accumulated Depreciation - Vehicle | E29: ='T Accounts'!M24 -> 600 | G29: =E29 -> 600
A30: Depreciation Expense | D30: ='T Accounts'!L21 -> 850 | F30: =D30 -> 850
A31: Notes Payable | E31: ='T Accounts'!M12 -> 30000 | G31: =E31 -> 30000
A32: Vehicle | D32: ='T Accounts'!L4 -> 40000 | F32: =D32 -> 40000
B33: =SUM(B4:B20) -> 43820 | C33: =SUM(C4:C20) -> 43820 | D33: =SUM(D4:D32) -> 85023 | E33: =SUM(E4:E32) -> 85023 | F33: =SUM(F4:F32) -> 111313 | G33: =SUM(G4:G32) -> 111313

Sheet Income Statement
A2: INCOME STATEMENT
A3: PERIOD ENDED 31 MAY
A4: Revenues
A5: Accounts Receivable | B5: ='Trial Balance'!F5 -> 9230
A6: Unearned Service Revenue | B6: ='Trial Balance'!G16 -> 9400
A7: Service Revenue | B7: ='Trial Balance'!G23 -> 24500
A8: Interest Payable | B8: ='Trial Balance'!G25 -> 100
A9: Notes Payable | B9: ='Trial Balance'!G31 -> 30000
B10: =SUM(B5:B9) -> 73230
A12: Expenses
A13: Salary | B13: ='Trial Balance'!F7 -> 9000
A14: Rent | B14: ='Trial Balance'!F8-'Trial Balance'!F10 -> 200
A15: Telephone | B15: ='Trial Balance'!F9 -> 60
A16: Interest Expense | B16: ='Trial Balance'!F21 -> 100
A17: Supplies Expense | B17: ='Trial Balance'!F24 -> 4840
A18: Depreciation Expense | B18: ='Trial Balance'!F30 -> 850
B19: =SUM(B13:B18) -> 15050
A21: Net Income | B21: =B10-B19 -> 58180

Sheet FINANCIAL POSITION
B4: STATEMENT OF FINANCIAL POSITION AS AT
B5: 44347
B6: Assets | E6: Liabilities
B7: Cash | C7: ='Trial Balance'!F4 -> 10400 | E7: Accounts Payable | F7: ='Trial Balance'!G6 -> 860
B8: Furniture | C8: ='Trial Balance'!B13 -> 5000 | E8: Retained Earnings | F8: ='Trial Balance'!G18 -> 10520
B9: Equipment | C9: ='Trial Balance'!F28 -> 16000 | E9: Accumulated Depreciation - Furniture | F9: ='Trial Balance'!G14 -> 1083
B10: Vehicle | C10: ='Trial Balance'!F32 -> 40000 | E10: Notes Payable | F10: ='Trial Balance'!G31 -> 30000
E11: Accumulated Depreciation - Equipment | F11: ='Trial Balance'!G15 -> 4250
B12: TOTAL ASSETS | C12: =SUM(C7:C10) -> 71400 | E12: Capital Shares | F12: ='Trial Balance'!G17 -> 20000
E13: Accumulated Depreciation - Equipment Old | F13: ='Trial Balance'!F27 -> 4000
E14: Accumulated Depreciation - Vehicle | F14: ='Trial Balance'!G29 -> 600
E15: Depreciation Furniture | F15: ='Trial Balance'!F26 -> 83
E17: TOTAL LIABILITIES | F17: =SUM(F7:F15) -> 71396

Sheet RETAINED EARNINGS
B3: Beginning Balance, Retained Earnings | C3: ='Trial Balance'!G18 -> 10520
B4: Net Income | C4: ='Income Statement'!B21 -> 58180
B5: Interest Payable | C5: =-('Trial Balance'!G25) -> -100
C6: =SUM(C3:C5) -> 68600
